BEGIN:VCALENDAR
VERSION:2.0
PRODID:-//CrocoVelo.org - ECPv6.15.20//NONSGML v1.0//EN
CALSCALE:GREGORIAN
METHOD:PUBLISH
X-WR-CALNAME:CrocoVelo.org
X-ORIGINAL-URL:https://crocovelo.org
X-WR-CALDESC:Évènements pour CrocoVelo.org
REFRESH-INTERVAL;VALUE=DURATION:PT1H
X-Robots-Tag:noindex
X-PUBLISHED-TTL:PT1H
BEGIN:VTIMEZONE
TZID:Europe/Paris
BEGIN:DAYLIGHT
TZOFFSETFROM:+0100
TZOFFSETTO:+0200
TZNAME:CEST
DTSTART:20240331T010000
END:DAYLIGHT
BEGIN:STANDARD
TZOFFSETFROM:+0200
TZOFFSETTO:+0100
TZNAME:CET
DTSTART:20241027T010000
END:STANDARD
BEGIN:DAYLIGHT
TZOFFSETFROM:+0100
TZOFFSETTO:+0200
TZNAME:CEST
DTSTART:20250330T010000
END:DAYLIGHT
BEGIN:STANDARD
TZOFFSETFROM:+0200
TZOFFSETTO:+0100
TZNAME:CET
DTSTART:20251026T010000
END:STANDARD
BEGIN:DAYLIGHT
TZOFFSETFROM:+0100
TZOFFSETTO:+0200
TZNAME:CEST
DTSTART:20260329T010000
END:DAYLIGHT
BEGIN:STANDARD
TZOFFSETFROM:+0200
TZOFFSETTO:+0100
TZNAME:CET
DTSTART:20261025T010000
END:STANDARD
END:VTIMEZONE
BEGIN:VEVENT
DTSTART;TZID=Europe/Paris:20251103T180000
DTEND;TZID=Europe/Paris:20251103T193000
DTSTAMP:20260426T003828
CREATED:20251027T184353Z
LAST-MODIFIED:20251027T184353Z
UID:3527-1762192800-1762198200@crocovelo.org
SUMMARY:lundi 3 novembre 2025 a 18h Fêtes des lucioles
DESCRIPTION:Crocovélo organise un petit tour de ville pour la fête des lucioles ! Départ 18h lundi 3 Novembre sur l’Esplanade devant le palais de justice de Nimes à 18h.
URL:https://crocovelo.org/event/lundi-3-novembre-2025-a-18h-fetes-des-lucioles/
LOCATION:Nimes Esplanade / Palais de Justice\, Nîmes\, France
ORGANIZER;CN="Croco Velo":MAILTO:croco.velo@free.fr
END:VEVENT
BEGIN:VEVENT
DTSTART;TZID=Europe/Paris:20251109T110000
DTEND;TZID=Europe/Paris:20251109T160000
DTSTAMP:20260426T003828
CREATED:20251109T091439Z
LAST-MODIFIED:20251111T082315Z
UID:3531-1762686000-1762704000@crocovelo.org
SUMMARY:Mardi 11 Novembre 2025 COP d'ici
DESCRIPTION:Bonsoir les Crocos \nLa semaine prochaine se déroule la COP d’ICI avec « Nimes en Transition »\, manifestation locale en miroir de la COP 30 qui se déroule à Bélen au Brésil \nCrocoVélo sera présent pour la grande journée d’ouverture le 11 Novembre de 11h00 à 16h00 . \n…. stands associatifs\, défilés de mode\, gratiféria\, mini-débats… \nParmi les initiatives\, le vélo de tous les jours participe à la réduction des émissions de gaz à effet de serre. \nCette année\, seront mis en valeur les problématiques de l’eau et le thème des récits. pour plus d’informations https://copdici.org/ \nTout le programme sur : https://nimesentransition.org/copdici/COPdici25.pdf \nRejoindre la COP sans aller au Brésil et partager\, échanger\, participer au village des initiatives à Nîmes.
URL:https://crocovelo.org/event/mardi-11-novembre-2025-cop-dici/
LOCATION:Nimes
END:VEVENT
END:VCALENDAR