BEGIN:VCALENDAR
VERSION:2.0
PRODID:-//CrocoVelo.org - ECPv6.15.20//NONSGML v1.0//EN
CALSCALE:GREGORIAN
METHOD:PUBLISH
X-ORIGINAL-URL:https://crocovelo.org
X-WR-CALDESC:Évènements pour CrocoVelo.org
REFRESH-INTERVAL;VALUE=DURATION:PT1H
X-Robots-Tag:noindex
X-PUBLISHED-TTL:PT1H
BEGIN:VTIMEZONE
TZID:Europe/Paris
BEGIN:DAYLIGHT
TZOFFSETFROM:+0100
TZOFFSETTO:+0200
TZNAME:CEST
DTSTART:20250330T010000
END:DAYLIGHT
BEGIN:STANDARD
TZOFFSETFROM:+0200
TZOFFSETTO:+0100
TZNAME:CET
DTSTART:20251026T010000
END:STANDARD
BEGIN:DAYLIGHT
TZOFFSETFROM:+0100
TZOFFSETTO:+0200
TZNAME:CEST
DTSTART:20260329T010000
END:DAYLIGHT
BEGIN:STANDARD
TZOFFSETFROM:+0200
TZOFFSETTO:+0100
TZNAME:CET
DTSTART:20261025T010000
END:STANDARD
BEGIN:DAYLIGHT
TZOFFSETFROM:+0100
TZOFFSETTO:+0200
TZNAME:CEST
DTSTART:20270328T010000
END:DAYLIGHT
BEGIN:STANDARD
TZOFFSETFROM:+0200
TZOFFSETTO:+0100
TZNAME:CET
DTSTART:20271031T010000
END:STANDARD
END:VTIMEZONE
BEGIN:VEVENT
DTSTART;TZID=Europe/Paris:20260203T183000
DTEND;TZID=Europe/Paris:20260203T200000
DTSTAMP:20260425T204134
CREATED:20260203T021819Z
LAST-MODIFIED:20260203T021819Z
UID:3670-1770143400-1770148800@crocovelo.org
SUMMARY:Assemblée Générale 2026 au Prolé Nimes 18h30
DESCRIPTION:Assemblée Générale 2026 au Prolé Nimes 18h30
URL:https://crocovelo.org/event/assemblee-generale-2026-au-prole-nimes-18h30/
LOCATION:Bar Le Prolé Nimes\, 20 rue Reboul\, Nimes\, 30900\, France
ORGANIZER;CN="Croco Velo":MAILTO:croco.velo@free.fr
END:VEVENT
BEGIN:VEVENT
DTSTART;TZID=Europe/Paris:20260214T100000
DTEND;TZID=Europe/Paris:20260214T110000
DTSTAMP:20260425T204134
CREATED:20260210T213042Z
LAST-MODIFIED:20260210T214819Z
UID:3680-1771063200-1771066800@crocovelo.org
SUMMARY:CrocoVélo Inauguration du 14 février 2026 Bouillargues / Nimes
DESCRIPTION:Une inauguration de la voie cyclable Bouillargues Nîmes non réalisée va avoir lieu :  \nle samedi 14 févier le 10h00 à 11h00. \nExplication : \nUne voie cyclable à été réalisée entre Bouillargues et  l’entrée de la ville de Nîmes \nLa mairie de Nîmes devait procéder à l’achèvement de cette voie cyclable jusqu’au périphérique: mais rien est fait. \nManifestation : CrocoVélo a décidé de combler cette défaillance et d’organiser une inauguration factice à l’entrée de Nîmes. \n–  Rendez vous au stade de Bouillargues Rue de la cave coopérative : sur le parking \n– déplacement en groupe entre le stade et le panneaux entrée de Nîmes (4Km) \n– Cérémonie factice pour inaugurer cette absence de réalisation \n– Dispersion individuelle. \nCi joint le tracé de la manif et quelques infos \nPour rejoindre le stade de Bouillargues \n– à Vélo : par le chemin du pont des Iles\, ou la la route d’Arles\, ou la route de Beaucaire (depuis Nîmes gare 10km) \n– à voiture avec le vélo (parking devant le stade) \nA bientôt et bonne semaine. \nps : samedi il ne pleut pas….      Inauguration 14 février
URL:https://crocovelo.org/event/crocovelo-inauguration-du-14-fevrier-2026-bouillargues-nimes/
LOCATION:Bouillargues / Nimes\, France
ORGANIZER;CN="Croco Velo":MAILTO:croco.velo@free.fr
END:VEVENT
END:VCALENDAR