BEGIN:VCALENDAR
VERSION:2.0
PRODID:-//CrocoVelo.org - ECPv6.15.20//NONSGML v1.0//EN
CALSCALE:GREGORIAN
METHOD:PUBLISH
X-ORIGINAL-URL:https://crocovelo.org
X-WR-CALDESC:Évènements pour CrocoVelo.org
REFRESH-INTERVAL;VALUE=DURATION:PT1H
X-Robots-Tag:noindex
X-PUBLISHED-TTL:PT1H
BEGIN:VTIMEZONE
TZID:Europe/Paris
BEGIN:DAYLIGHT
TZOFFSETFROM:+0100
TZOFFSETTO:+0200
TZNAME:CEST
DTSTART:20250330T010000
END:DAYLIGHT
BEGIN:STANDARD
TZOFFSETFROM:+0200
TZOFFSETTO:+0100
TZNAME:CET
DTSTART:20251026T010000
END:STANDARD
BEGIN:DAYLIGHT
TZOFFSETFROM:+0100
TZOFFSETTO:+0200
TZNAME:CEST
DTSTART:20260329T010000
END:DAYLIGHT
BEGIN:STANDARD
TZOFFSETFROM:+0200
TZOFFSETTO:+0100
TZNAME:CET
DTSTART:20261025T010000
END:STANDARD
BEGIN:DAYLIGHT
TZOFFSETFROM:+0100
TZOFFSETTO:+0200
TZNAME:CEST
DTSTART:20270328T010000
END:DAYLIGHT
BEGIN:STANDARD
TZOFFSETFROM:+0200
TZOFFSETTO:+0100
TZNAME:CET
DTSTART:20271031T010000
END:STANDARD
END:VTIMEZONE
BEGIN:VEVENT
DTSTART;TZID=Europe/Paris:20260321T093000
DTEND;TZID=Europe/Paris:20260321T130000
DTSTAMP:20260425T191057
CREATED:20260311T194517Z
LAST-MODIFIED:20260311T194517Z
UID:3762-1774085400-1774098000@crocovelo.org
SUMMARY:Atelier vélo du samedi 21 mars 2026 Arche Talabot devant la Table ouverte
DESCRIPTION:Obligation de prendre une cotisation annuelle ou d’être a jour de vos cotisations ! \nLe Samedi 21 Mars 2026 9h30 – 13H nous vous accueillerons pour diagnostics et \nréparation de votre vélo sur le parvis de la Table Ouverte devant l’arche N°1 de Talabot Nimes . \nDe 9h30 à 13h. Venez Nombreux !!!!
URL:https://crocovelo.org/event/atelier-velo-du-samedi-21-mars-2026-arche-talabot-devant-la-table-ouverte/
LOCATION:Table Ouverte Arche Talabot N°1\, arche talabot N°1\, Nimes\, 30000\, France
ORGANIZER;CN="Croco Velo":MAILTO:croco.velo@free.fr
END:VEVENT
END:VCALENDAR