BEGIN:VCALENDAR
VERSION:2.0
PRODID:-//CrocoVelo.org - ECPv6.15.20//NONSGML v1.0//EN
CALSCALE:GREGORIAN
METHOD:PUBLISH
X-WR-CALNAME:CrocoVelo.org
X-ORIGINAL-URL:https://crocovelo.org
X-WR-CALDESC:Évènements pour CrocoVelo.org
REFRESH-INTERVAL;VALUE=DURATION:PT1H
X-Robots-Tag:noindex
X-PUBLISHED-TTL:PT1H
BEGIN:VTIMEZONE
TZID:Europe/Paris
BEGIN:DAYLIGHT
TZOFFSETFROM:+0100
TZOFFSETTO:+0200
TZNAME:CEST
DTSTART:20250330T010000
END:DAYLIGHT
BEGIN:STANDARD
TZOFFSETFROM:+0200
TZOFFSETTO:+0100
TZNAME:CET
DTSTART:20251026T010000
END:STANDARD
BEGIN:DAYLIGHT
TZOFFSETFROM:+0100
TZOFFSETTO:+0200
TZNAME:CEST
DTSTART:20260329T010000
END:DAYLIGHT
BEGIN:STANDARD
TZOFFSETFROM:+0200
TZOFFSETTO:+0100
TZNAME:CET
DTSTART:20261025T010000
END:STANDARD
BEGIN:DAYLIGHT
TZOFFSETFROM:+0100
TZOFFSETTO:+0200
TZNAME:CEST
DTSTART:20270328T010000
END:DAYLIGHT
BEGIN:STANDARD
TZOFFSETFROM:+0200
TZOFFSETTO:+0100
TZNAME:CET
DTSTART:20271031T010000
END:STANDARD
END:VTIMEZONE
BEGIN:VEVENT
DTSTART;TZID=Europe/Paris:20260413T173000
DTEND;TZID=Europe/Paris:20260425T190000
DTSTAMP:20260425T175448
CREATED:20260320T032841Z
LAST-MODIFIED:20260320T032841Z
UID:3777-1776101400-1777143600@crocovelo.org
SUMMARY:formation à l'apprentissage du vélo ou à la remise en selle du 13 avril au 25 avril Nimes
DESCRIPTION:Vélo Ecole avril 2026 \nCrocoVélo planifie sa prochaine formation à l’apprentissage du vélo ou à la remise en selle. \nVous connaissez une personne qui veut se lancer ou se confirmer dans l’aventure du déplacement doux\, \n– avec son vélo \n– vous n’avez pas de vélo\, l’association vous en met à disposition \n….  et les instructeurs de CrocoVélo vous accueillent. \nProchain stage en avril du 13 avril au 25 avril en 7 séances à Nîmes voir le détail en PJ.
URL:https://crocovelo.org/event/formation-a-lapprentissage-du-velo-ou-a-la-remise-en-selle-du-13-avril-au-25-avril-nimes/
ORGANIZER;CN="Croco Velo":MAILTO:croco.velo@free.fr
END:VEVENT
END:VCALENDAR